BEGIN:VCALENDAR
VERSION:2.0
PRODID:-//wp-events-plugin.com//7.2.3.1//EN
TZID:Europe/Berlin
X-WR-TIMEZONE:Europe/Berlin
BEGIN:VEVENT
UID:20@seelische-gesundheit-koeln-bonn.de
DTSTART;TZID=Europe/Berlin:20251031T090000
DTEND;TZID=Europe/Berlin:20251031T200000
DTSTAMP:20250804T142555Z
URL:https://seelische-gesundheit-koeln-bonn.de/veranstaltungen/barcamp-see
 lische-gesundheit-staerken
SUMMARY:Barcamp Seelische Gesundheit stärken
DESCRIPTION:Mental Health geht uns alle an – doch oft wird nur über Betr
 offene gesprochen\, nicht mit ihnen. Das ändern wir! Lass uns darüber re
 den\, was wir tun können\, damit seelische Gesundheit in Köln nicht Luxu
 s\, sondern Alltag wird. Wie schaffen wir Räume für offene Gespräche\, 
 neue Wege und gemeinsames Lernen?\n\nWie läuft das Barcamp ab? Ein Barcam
 p ist kein klassisches Konferenzformat – es lebt vom Mitmachen! Es gibt 
 keine festgelegten Vorträge oder Speakende. Stattdessen bringen die Teiln
 ehmenden ihre eigenen Fragen\, Themen\, Ideen oder Erfahrungen mit. Gemein
 sam gestalten wir den Tag\, entscheiden spontan\, welche Sessions angebote
 n werden und was wir vertiefen wollen. Ob du selbst eine Session anbieten 
 möchtest oder einfach mitdiskutieren willst – beides ist willkommen!\n\
 nWen erwarten wir? Menschen\, die beruflich oder persönlich mit seelische
 r Gesundheit zu tun haben oder sich für das Thema stark machen wollen:\n\
 n 	Betroffene und Angehörige\n 	Fachkräfte aus Beratung\, Therapie\, Soz
 ialarbeit oder Medizin\n 	Angestellte\, Arbeitgebende\, HR-Verantwortliche
  und Führungskräfte\n 	Engagierte aus Initiativen\, Selbsthilfe\, Politi
 k oder Verwaltung\n 	Interessierte Menschen aus Köln\n\nWarum solltest du
  dabei sein? Weil seelische Gesundheit uns alle angeht – und weil wir ge
 meinsam mehr erreichen können. Wir schaffen einen offenen Raum für echte
  Begegnung\, ehrlichen Austausch und neue Perspektiven. Ziel ist es\, prax
 isnahe Impulse zu entwickeln\, bestehendes Wissen zu vernetzen und gemeins
 am Ideen für ein seelisch gesundes Köln voranzubringen.\n\n&nbsp\;\n\n&g
 t\;&gt\; Voranmeldung und Infos unter: https://www.eventbrite.de/e/barcamp
 -seelische-gesundheit-starken-tickets-1316271205609
ATTACH;FMTTYPE=image/jpeg:https://seelische-gesundheit-koeln-bonn.de/wp-co
 ntent/uploads/2025/05/Beitragsbild-Zeit-fuer-Heldinnen2.png
CATEGORIES:Informationsveranstaltung,Netzwerk-Veranstaltung,Offenes
 Mitmachangebot / Tag der offenen Tür,Schnupperangebot,Workshop
LOCATION:Tor 28\, Machabäerstraße 28\, Köln\, 50668\, Deutschland
GEO:50.946419;6.95828
X-APPLE-STRUCTURED-LOCATION;VALUE=URI;X-ADDRESS=Machabäerstraße 28\, Köl
 n\, 50668\, Deutschland;X-APPLE-RADIUS=100;X-TITLE=Tor 28:geo:50.946419,6.
 95828
END:VEVENT
BEGIN:VTIMEZONE
TZID:Europe/Berlin
X-LIC-LOCATION:Europe/Berlin
BEGIN:STANDARD
DTSTART:20251026T020000
TZOFFSETFROM:+0200
TZOFFSETTO:+0100
TZNAME:CET
END:STANDARD
END:VTIMEZONE
END:VCALENDAR