BEGIN:VCALENDAR
VERSION:2.0
PRODID:-//wp-events-plugin.com//7.2.3.1//EN
TZID:Europe/Berlin
X-WR-TIMEZONE:Europe/Berlin
BEGIN:VEVENT
UID:68@seelische-gesundheit-koeln-bonn.de
DTSTART;TZID=Europe/Berlin:20251014T180000
DTEND;TZID=Europe/Berlin:20251014T200000
DTSTAMP:20251014T063114Z
URL:https://seelische-gesundheit-koeln-bonn.de/veranstaltungen/entspannung
 -kann-jeder-lernen
SUMMARY:ABGESAGT: Entspannung kann jeder lernen
DESCRIPTION:Hinweis: Die Veranstaltung musste leider abgesagt werden.\nIn d
 iesem Workshop werden unterschiedliche Entspannungsmethoden und -möglichk
 eiten vorgestellt. Die Methoden können praktisch getestet werden und bein
 halten unter anderem Übungen aus den Bereichen Progressive Muskelentspann
 ung\, Atemübungen\, Autogenes Training\, Embodiment und Achtsamkeit.\n\nL
 ink zur Veranstalter-Webseite: https://mentli.de
CATEGORIES:Workshop
END:VEVENT
BEGIN:VTIMEZONE
TZID:Europe/Berlin
X-LIC-LOCATION:Europe/Berlin
BEGIN:DAYLIGHT
DTSTART:20250330T030000
TZOFFSETFROM:+0100
TZOFFSETTO:+0200
TZNAME:CEST
END:DAYLIGHT
END:VTIMEZONE
END:VCALENDAR