BEGIN:VCALENDAR
VERSION:2.0
PRODID:-//wp-events-plugin.com//7.2.3.1//EN
TZID:Europe/Berlin
X-WR-TIMEZONE:Europe/Berlin
BEGIN:VEVENT
UID:65@seelische-gesundheit-koeln-bonn.de
DTSTART;TZID=Europe/Berlin:20251007T140000
DTEND;TZID=Europe/Berlin:20251007T163000
DTSTAMP:20250804T143615Z
URL:https://seelische-gesundheit-koeln-bonn.de/veranstaltungen/jobcenter-d
 igital-information-und-unterstuetzung
SUMMARY:Jobcenter.digital - Information und Unterstützung
DESCRIPTION:Immer mehr Behörden setzen auf digitale Kommunikation - so auc
 h das Jobcenter. Damit Sie sicher und selbstständig mit dem Online-Portal
  umgehen können\, laden wir Sie herzlich zu einer Einführung ein. In Koo
 peration mit dem Jobcenter Köln möchte das Team von KölleDigital an die
 sem Nachmittag zeigen\, wie das Online-Portal jobcenter.digital funktionie
 rt – verständlich\, praxisnah und mit Raum für Fragen.\n\nDie Veransta
 ltung richtet sich an Menschen mit Behinderung\, Unterstützer*innen\, Fac
 hkräfte und alle\, die das Portal bereits nutzen oder sich einen Überbli
 ck verschaffen möchten.\n\n&gt\;&gt\; Einladungsschreiben zum Download
ATTACH;FMTTYPE=image/jpeg:https://seelische-gesundheit-koeln-bonn.de/wp-co
 ntent/uploads/2025/08/Design-ohne-Titel-6.png
CATEGORIES:Informationsveranstaltung
LOCATION:Alexianer Krankenhaus Porz - Haus Monika\, Kölner Straße\, Köln
 \, 51149\, Deutschland
GEO:50.901963;7.025497
X-APPLE-STRUCTURED-LOCATION;VALUE=URI;X-ADDRESS=Kölner Straße\, Köln\, 5
 1149\, Deutschland;X-APPLE-RADIUS=100;X-TITLE=Alexianer Krankenhaus Porz -
  Haus Monika:geo:50.901963,7.025497
END:VEVENT
BEGIN:VTIMEZONE
TZID:Europe/Berlin
X-LIC-LOCATION:Europe/Berlin
BEGIN:DAYLIGHT
DTSTART:20250330T030000
TZOFFSETFROM:+0100
TZOFFSETTO:+0200
TZNAME:CEST
END:DAYLIGHT
END:VTIMEZONE
END:VCALENDAR