BEGIN:VCALENDAR
VERSION:2.0
PRODID:-//wp-events-plugin.com//7.2.3.1//EN
TZID:Europe/Berlin
X-WR-TIMEZONE:Europe/Berlin
BEGIN:VEVENT
UID:66@seelische-gesundheit-koeln-bonn.de
DTSTART;TZID=Europe/Berlin:20251008T180000
DTEND;TZID=Europe/Berlin:20251008T193000
DTSTAMP:20250808T082253Z
URL:https://seelische-gesundheit-koeln-bonn.de/veranstaltungen/jung-krise-
 und-wir-als-angehoerige
SUMMARY:Jung - Krise - und wir als Angehörige?
DESCRIPTION:Dieses Fachgespräch richtet sich speziell an Angehörige junge
 r Menschen (ab 17 Jahren) in einer psychischen Krise oder mit einer psychi
 schen Erkrankung. Es besteht die Möglichkeit\, Fragen zu stellen und mite
 inander ins Gespräch zu kommen.\n\nMit Claudia Zeitz\, Dipl.Soz.Päd.\, P
 roberaum-WorX\, Dorothea Stender\, Dipl.Soz.Arb.\, Plan 27 und Andreas Arm
 bruster\, Oberarzt St.Anno\n\nDie Veranstaltung findet statt im Dachgescho
 ss 3. OG.\n\nLink zur Veranstalter-Webseite: http://www.spz-rodenkirchen.d
 e
ATTACH;FMTTYPE=image/jpeg:https://seelische-gesundheit-koeln-bonn.de/wp-co
 ntent/uploads/2025/08/Alexianer-junge-Krise.jpeg
CATEGORIES:Vortrag mit Diskussion
LOCATION:Beratungsstelle Proberaum Bayenthal\, Mathiaskirchplatz 5\, Köln\
 , 50986\, Deutschland
GEO:50.909182;6.967904
X-APPLE-STRUCTURED-LOCATION;VALUE=URI;X-ADDRESS=Mathiaskirchplatz 5\, Köln
 \, 50986\, Deutschland;X-APPLE-RADIUS=100;X-TITLE=Beratungsstelle Proberau
 m Bayenthal:geo:50.909182,6.967904
END:VEVENT
BEGIN:VTIMEZONE
TZID:Europe/Berlin
X-LIC-LOCATION:Europe/Berlin
BEGIN:DAYLIGHT
DTSTART:20250330T030000
TZOFFSETFROM:+0100
TZOFFSETTO:+0200
TZNAME:CEST
END:DAYLIGHT
END:VTIMEZONE
END:VCALENDAR