BEGIN:VCALENDAR
VERSION:2.0
PRODID:-//wp-events-plugin.com//7.2.3.1//EN
TZID:Europe/Berlin
X-WR-TIMEZONE:Europe/Berlin
BEGIN:VEVENT
UID:56@seelische-gesundheit-koeln-bonn.de
DTSTART;TZID=Europe/Berlin:20251010T130000
DTEND;TZID=Europe/Berlin:20251010T160000
DTSTAMP:20250723T100748Z
URL:https://seelische-gesundheit-koeln-bonn.de/veranstaltungen/kraeuterwor
 kshop-im-inklusiven-gartenprojekt
SUMMARY:Kräuterworkshop im inklusiven Gartenprojekt
DESCRIPTION:Wir möchten Kräutersalz und Oxymel herstellen. Eine Mischung 
 aus Essig\, Honig und Kräutern\, die das Immunsystem stärkt. Somit sind 
 wir bestens gerüstet für die kalte Jahreszeit. Im fröhlichen Austausch 
 kommen wir miteinander ins Gespräch.\n\nLassen Sie uns die Sinne anregen.
  Lernen Sie das SPZ Nippes und den Flora e.V. kennen.\n\nLink zur Veransta
 lter-Webseite: https://www.spz-nippes.de
ATTACH;FMTTYPE=image/jpeg:https://seelische-gesundheit-koeln-bonn.de/wp-co
 ntent/uploads/2025/07/Screenshot-2025-07-23-120724.png
CATEGORIES:Offenes Mitmachangebot / Tag der offenen Tür,Workshop
LOCATION:KGV Flora e.V.\, Krüthstraße (siehe Wegweiser vor Ort)\, Köln\,
  50733\, Deutschland
GEO:50.95774;6.946212
X-APPLE-STRUCTURED-LOCATION;VALUE=URI;X-ADDRESS=Krüthstraße (siehe Wegwei
 ser vor Ort)\, Köln\, 50733\, Deutschland;X-APPLE-RADIUS=100;X-TITLE=KGV 
 Flora e.V.:geo:50.95774,6.946212
END:VEVENT
BEGIN:VTIMEZONE
TZID:Europe/Berlin
X-LIC-LOCATION:Europe/Berlin
BEGIN:DAYLIGHT
DTSTART:20250330T030000
TZOFFSETFROM:+0100
TZOFFSETTO:+0200
TZNAME:CEST
END:DAYLIGHT
END:VTIMEZONE
END:VCALENDAR