BEGIN:VCALENDAR
VERSION:2.0
PRODID:-//wp-events-plugin.com//7.2.3.1//EN
TZID:Europe/Berlin
X-WR-TIMEZONE:Europe/Berlin
BEGIN:VEVENT
UID:63@seelische-gesundheit-koeln-bonn.de
DTSTART;TZID=Europe/Berlin:20251009T100000
DTEND;TZID=Europe/Berlin:20251015T180000
DTSTAMP:20250804T141237Z
URL:https://seelische-gesundheit-koeln-bonn.de/veranstaltungen/kunstausste
 llung-malen-ist-meine-lebensessenz
SUMMARY:Kunstausstellung: “Malen ist meine Lebensessenz”
DESCRIPTION:Die Ausstellung ist eine bildnerische Entdeckungsreise ins Seel
 enleben des psychisch erkrankten Künstlers Jörg Neuneier.\n\nIn der Kult
 urkapelle schaffen wir Begegnungen! Durch Kunst und Kultur tragen wir rege
 lmäßig zur Entstigmatisierung von psychischen Erkrankungen bei. Mit unse
 rem neuen Veranstaltungsprojekt öffnen wir Türen für Kultur\, Kreativit
 ät und Austausch. Die Kulturkapelle bietet Raum für kleine Konzerte\, Le
 sungen\, Poetry-Slams und Kunstausstellungen\, die inspirieren und Brücke
 n bauen zwischen Menschen\, Themen und Perspektiven. Bewusst bieten wir Be
 troffenen\, Genesenen\, Angehörigen sowie Mitarbeitern und Künstlern\, d
 ie sich mit dem Thema Psyche befassen\, eine Bühne. Durch Kunst und Kultu
 r schaffen wir Begegnung und eine Atmosphäre\, die zum Dialog anregt und 
 Vorurteile abbaut.\n\nWir laden Sie herzlich ein\, Teil dieses besonderen 
 Projekts zu werden und gemeinsam mit uns den Raum mit Leben\, Ideen und Of
 fenheit zu füllen. Die Ausstellungseröffnung findet am 08.10.2025\, 17:0
 0-18:00 Uhr statt. Kommen Sie vorbei\, unterstützen Sie uns bei unserer M
 ission und werden Teil unseres Projekts. Diese Veranstaltungen richten sic
 h an alle interessierten Menschen. Der Eintritt ist frei. Es sind ausreich
 end Parkplätze an der Klinik vorhanden. Sie können uns ebenfalls ganz ei
 nfach mit der U16 erreichen. Von der Haltestelle Sebastianstraße ist die 
 Kulturkapelle an der Klinik nur 5 Min. Fußweg entfernt.\n\n&gt\;&gt\; Fly
 er\n\nLink zur Veranstalter-Webseite: https://www.stagatha-fachklinik.de/p
 atienten-und-besucher/kulturkapelle
ATTACH;FMTTYPE=image/jpeg:https://seelische-gesundheit-koeln-bonn.de/wp-co
 ntent/uploads/2025/08/Cellitinnen-Screenshot.png
CATEGORIES:Kunstausstellung
LOCATION:Cellitinnen-Marienborn St. Agatha Fachklinik für Seelische Gesund
 heit\, Feldgärtenstr. 97\, Köln\, 50735\, Deutschland
GEO:50.987042;6.959157
X-APPLE-STRUCTURED-LOCATION;VALUE=URI;X-ADDRESS=Feldgärtenstr. 97\, Köln\
 , 50735\, Deutschland;X-APPLE-RADIUS=100;X-TITLE=Cellitinnen-Marienborn St
 . Agatha Fachklinik für Seelische Gesundheit:geo:50.987042,6.959157
END:VEVENT
BEGIN:VTIMEZONE
TZID:Europe/Berlin
X-LIC-LOCATION:Europe/Berlin
BEGIN:DAYLIGHT
DTSTART:20250330T030000
TZOFFSETFROM:+0100
TZOFFSETTO:+0200
TZNAME:CEST
END:DAYLIGHT
END:VTIMEZONE
END:VCALENDAR