BEGIN:VCALENDAR
VERSION:2.0
PRODID:-//wp-events-plugin.com//7.2.3.1//EN
TZID:Europe/Berlin
X-WR-TIMEZONE:Europe/Berlin
BEGIN:VEVENT
UID:130@seelische-gesundheit-koeln-bonn.de
DTSTART;TZID=Europe/Berlin:20251010T103000
DTEND;TZID=Europe/Berlin:20251010T113000
DTSTAMP:20251009T112855Z
URL:https://seelische-gesundheit-koeln-bonn.de/veranstaltungen/offenes-bew
 egungsangebot
SUMMARY:Offenes Bewegungsangebot
DESCRIPTION:Wir lassen gemeinsam die Woche mit Bewegung ausklingen. Nach ei
 nem kurzen Aufwärmprogramm machen wir Übungen\, die den ganzen Körper k
 räftigen und enden mit einem Cool-Down mit Dehnen und Atemübungen. Das A
 ngebot ist so aufgebaut\, dass alle mitmachen können und Übungen in vers
 chiedenen Schwierigkeiten angeboten werden.\n\n\nLink zur Veranstalter-Web
 seite: https://www.invia-koeln.de/unsere-angebote/wege-in-beschaeftigung-
 und-beruf/zentrale-zentrum-fuer-alleinerziehende-eltern/index.html
ATTACH;FMTTYPE=image/jpeg:https://seelische-gesundheit-koeln-bonn.de/wp-co
 ntent/uploads/2025/10/68e79106d7f4e.png
CATEGORIES:(Leichte) körperliche Betätigung
LOCATION:ZentralE - Zentrum für alleinerziehende Eltern\, Severinstraße 3
 9\, Köln\, 50678\, Deutschland
GEO:50.923382;6.958609
X-APPLE-STRUCTURED-LOCATION;VALUE=URI;X-ADDRESS=Severinstraße 39\, Köln\,
  50678\, Deutschland;X-APPLE-RADIUS=100;X-TITLE=ZentralE - Zentrum für al
 leinerziehende Eltern:geo:50.923382,6.958609
END:VEVENT
BEGIN:VTIMEZONE
TZID:Europe/Berlin
X-LIC-LOCATION:Europe/Berlin
BEGIN:DAYLIGHT
DTSTART:20250330T030000
TZOFFSETFROM:+0100
TZOFFSETTO:+0200
TZNAME:CEST
END:DAYLIGHT
END:VTIMEZONE
END:VCALENDAR