BEGIN:VCALENDAR
VERSION:2.0
PRODID:-//wp-events-plugin.com//7.2.3.1//EN
TZID:Europe/Berlin
X-WR-TIMEZONE:Europe/Berlin
BEGIN:VEVENT
UID:22@seelische-gesundheit-koeln-bonn.de
DTSTART;TZID=Europe/Berlin:20251009T183000
DTEND;TZID=Europe/Berlin:20251009T210000
DTSTAMP:20250527T120142Z
URL:https://seelische-gesundheit-koeln-bonn.de/veranstaltungen/podiumsdisk
 ussion-zum-thema-einsamkeit
SUMMARY:Podiumsdiskussion zum Thema Einsamkeit
DESCRIPTION:Bei der Veranstaltung wird es nach einem kurzen Impulsvortrag e
 ine Podiumsdiskussion zwischen verschiedenen Expert:innen\, Psycholog:inne
 n\, Betroffenen und Angehörigen geben. Anschließend gibt es für das Pub
 likum die Möglichkeit Fragen zu stellen. Darüber hinaus wird es die Mög
 lichkeit geben sich unter den Anwesenden zu vernetzen.
ATTACH;FMTTYPE=image/jpeg:https://seelische-gesundheit-koeln-bonn.de/wp-co
 ntent/uploads/2025/05/85e2aa9e-ca67-4da2-94d5-6274bac71eef.webp
CATEGORIES:Vortrag mit Diskussion
LOCATION:Fritz Thyssen Stiftung\, Apostelnkloster 13-15\, Köln\, 50672\, D
 eutschland
GEO:50.936423;6.943941
X-APPLE-STRUCTURED-LOCATION;VALUE=URI;X-ADDRESS=Apostelnkloster 13-15\, Kö
 ln\, 50672\, Deutschland;X-APPLE-RADIUS=100;X-TITLE=Fritz Thyssen Stiftung
 :geo:50.936423,6.943941
END:VEVENT
BEGIN:VTIMEZONE
TZID:Europe/Berlin
X-LIC-LOCATION:Europe/Berlin
BEGIN:DAYLIGHT
DTSTART:20250330T030000
TZOFFSETFROM:+0100
TZOFFSETTO:+0200
TZNAME:CEST
END:DAYLIGHT
END:VTIMEZONE
END:VCALENDAR