BEGIN:VCALENDAR
VERSION:2.0
PRODID:-//wp-events-plugin.com//7.2.3.1//EN
TZID:Europe/Berlin
X-WR-TIMEZONE:Europe/Berlin
BEGIN:VEVENT
UID:55@seelische-gesundheit-koeln-bonn.de
DTSTART;TZID=Europe/Berlin:20251009T173000
DTEND;TZID=Europe/Berlin:20251009T203000
DTSTAMP:20250728T071546Z
URL:https://seelische-gesundheit-koeln-bonn.de/veranstaltungen/psyche-puls
 -perspektive-alles-gehoert-zusammen
SUMMARY:Psyche\, Puls & Perspektive – alles gehört zusammen
DESCRIPTION:Seelische Gesundheit ist kein Luxus – sie ist die Basis und e
 ntsteht dort\, wo Körper\, Geist und Herz im Einklang sind. Am 9. Oktober
  geben unsere Therapeutinnen aus den Bereichen Schmerztherapie\, Chinesisc
 her Medizin\, Resilienz-Coaching\, Hypnose\, Energiearbeit &amp\; Co. span
 nende Einblicke in ihre Fachgebiete und zeigen\, wie emotionale Balance\, 
 innere Stärke und körperliches Wohlbefinden miteinander verwoben sind 
 – ganzheitlich\, wissenschaftlich fundiert und berührend.\n\nDas erwart
 et dich:\n\n17.30 Uhr: „Raus aus der Burnout-Spirale – 4 Schritte zu m
 ehr Gesundheit und Lebensglück“ mit Ilke Haasper\, Heilpraktikerin\n\n1
 7.50 Uhr: „Berührung &amp\; Nervensystem – Stress regulieren durch ge
 zielte Reize“ mit Sigrid Lauff\, Heilpraktikerin\n\nPause – Zeit für 
 deine Fragen\n\n18.30 Uhr: „Intuition &amp\; innere Balance – Wenn der
  Kopf schweigt\, beginnt dein Wissen“ mit Dr. Kerstin Hadjer\n\n18.50 Uh
 r: „Stille Entzündungen erkennen – wie unterschwellige Brandherde die
  Psyche beeinflussen“ mit Sigrid Lauff\, Heilpraktikerin\n\nPause – Ze
 it für deine Fragen\n\n19.10 Uhr: „Emotionale Altlasten loslassen – B
 lockaden &amp\; Überzeugungen transformieren“ mit Ilona Buchholz\, Ener
 gie-Coach\n\n19.30 Uhr: „Die Kraft medizinischer Hypnose – Unterbewuss
 tsein &amp\; Traumaheilung“ mit Daniela Bergfried\, Heilpraktikerin für
  Psychotherapie\n\n20.00 Uhr: Praxis-Tombola &amp\; Get Together mit Snack
 s\n\n&nbsp\;\n\nDu suchst neue Wege zu mehr innerer Stabilität\, arbeites
 t im Gesundheitsbereich oder willst dich einfach inspirieren lassen? Dann 
 bist du hier genau richtig.\n\nHinweis: Die Plätze sind begrenzt – bitt
 e frühzeitig anmelden. Wir freuen uns auf dich!\n\nLink zur Veranstalter-
 Webseite: https://www.sunnysideup-koeln.de/wir
ATTACH;FMTTYPE=image/jpeg:https://seelische-gesundheit-koeln-bonn.de/wp-co
 ntent/uploads/2025/07/Design-ohne-Titel-1.png
CATEGORIES:Informationsveranstaltung,Offenes Mitmachangebot / Tag der
 offenen Tür,Schnupperangebot
LOCATION:Ganzheitliches Gesundheitszentrum SunnySideUp - Innenhof\, Antwerp
 ener Str. 35\, Köln\, 50672\, Deutschland
GEO:50.940056;6.93533
X-APPLE-STRUCTURED-LOCATION;VALUE=URI;X-ADDRESS=Antwerpener Str. 35\, Köln
 \, 50672\, Deutschland;X-APPLE-RADIUS=100;X-TITLE=Ganzheitliches Gesundhei
 tszentrum SunnySideUp - Innenhof:geo:50.940056,6.93533
END:VEVENT
BEGIN:VTIMEZONE
TZID:Europe/Berlin
X-LIC-LOCATION:Europe/Berlin
BEGIN:DAYLIGHT
DTSTART:20250330T030000
TZOFFSETFROM:+0100
TZOFFSETTO:+0200
TZNAME:CEST
END:DAYLIGHT
END:VTIMEZONE
END:VCALENDAR