BEGIN:VCALENDAR
VERSION:2.0
PRODID:-//wp-events-plugin.com//7.2.3.1//EN
TZID:Europe/Berlin
X-WR-TIMEZONE:Europe/Berlin
BEGIN:VEVENT
UID:47@seelische-gesundheit-koeln-bonn.de
DTSTART;TZID=Europe/Berlin:20251010T150000
DTEND;TZID=Europe/Berlin:20251010T180000
DTSTAMP:20251002T103055Z
URL:https://seelische-gesundheit-koeln-bonn.de/veranstaltungen/stark-fuer-
 andere-und-fuer-mich
SUMMARY:ABGESAGT: Stark für andere - und für mich!
DESCRIPTION:Hinweis: Die Veranstaltung musste leider abgesagt werden.\nPfle
 gekräfte und Erzieherinnen und Erzieher kümmern sich täglich um das Woh
 l anderer – oft mit großer emotionaler und psychischer Belastung. Doch 
 wer sorgt für ihr eigenes Wohlbefinden? In diesem Workshop erfahren die T
 eilnehmenden\, wie es gelingt\, sich selbst mehr Aufmerksamkeit zu schenke
 n und praktische Strategien für mehr Balance im Alltag zu entwickeln. Die
  Teilnehmenden erarbeiten Methoden und einfache Techniken\, wie jeder Einz
 elne besser mit Stress umgehen und mehr Resilienz aufbauen kann. Am Ende d
 es Workshops geht es auch darum\, wie Betriebe einen guten Rahmen dafür s
 chaffen können\, der das Wohlbefinden der Mitarbeitenden unterstützt. Di
 e Referierenden zeigen Möglichkeiten auf\, wie Pflegeeinrichtungen und Ki
 tas durch gezielte Angebote ein gesundes Arbeitsumfeld fördern\, das die 
 individuelle Gesundheit stärkt und das Team unterstützt.\n\n&nbsp\;
ATTACH;FMTTYPE=image/jpeg:https://seelische-gesundheit-koeln-bonn.de/wp-co
 ntent/uploads/2025/07/AOK.jpg
CATEGORIES:Workshop
END:VEVENT
BEGIN:VTIMEZONE
TZID:Europe/Berlin
X-LIC-LOCATION:Europe/Berlin
BEGIN:DAYLIGHT
DTSTART:20250330T030000
TZOFFSETFROM:+0100
TZOFFSETTO:+0200
TZNAME:CEST
END:DAYLIGHT
END:VTIMEZONE
END:VCALENDAR